BEGIN:VCALENDAR
VERSION:2.0
PRODID:-//Murfreesboro.com - ECPv6.15.20//NONSGML v1.0//EN
CALSCALE:GREGORIAN
METHOD:PUBLISH
X-ORIGINAL-URL:https://murfreesboro.com
X-WR-CALDESC:Events for Murfreesboro.com
REFRESH-INTERVAL;VALUE=DURATION:PT1H
X-Robots-Tag:noindex
X-PUBLISHED-TTL:PT1H
BEGIN:VTIMEZONE
TZID:America/Chicago
BEGIN:DAYLIGHT
TZOFFSETFROM:-0600
TZOFFSETTO:-0500
TZNAME:CDT
DTSTART:20250309T080000
END:DAYLIGHT
BEGIN:STANDARD
TZOFFSETFROM:-0500
TZOFFSETTO:-0600
TZNAME:CST
DTSTART:20251102T070000
END:STANDARD
BEGIN:DAYLIGHT
TZOFFSETFROM:-0600
TZOFFSETTO:-0500
TZNAME:CDT
DTSTART:20260308T080000
END:DAYLIGHT
BEGIN:STANDARD
TZOFFSETFROM:-0500
TZOFFSETTO:-0600
TZNAME:CST
DTSTART:20261101T070000
END:STANDARD
BEGIN:DAYLIGHT
TZOFFSETFROM:-0600
TZOFFSETTO:-0500
TZNAME:CDT
DTSTART:20270314T080000
END:DAYLIGHT
BEGIN:STANDARD
TZOFFSETFROM:-0500
TZOFFSETTO:-0600
TZNAME:CST
DTSTART:20271107T070000
END:STANDARD
END:VTIMEZONE
BEGIN:VEVENT
DTSTART;TZID=America/Chicago:20260502T100000
DTEND;TZID=America/Chicago:20260502T163000
DTSTAMP:20260421T214651
CREATED:20260126T162509Z
LAST-MODIFIED:20260126T162528Z
UID:10041139-1777716000-1777739400@murfreesboro.com
SUMMARY:Boro BBQ Festival
DESCRIPTION:Spring in Middle Tennessee is marked by the aroma of hickory smoke and the sounds of live music as the Boro BBQ Festival returns for its 14th year. The Murfreesboro Breakfast Rotary Club is proud to host this premier community celebration on Saturday\, May 2\, 2026\, from 9:00 a.m. to 5:00 p.m. at Hop Springs Beer Park. \n\n\n\n\n\n  \n\n\n\n\n\n\n\n\n\n  \n\n\n\nAdmission is free to the public\, with festivities and food service kicking off at 10:00 a.m. This year’s event is headlined by the Dr. George Smith KCBS BBQ Brawl\, Rutherford County’s only KCBS-sanctioned competition. Professional and backyard pitmasters from across the Southeast will compete for a $6\,200 total purse\, smoking chicken and ribs to perfection. \n\n\n\nWhile national judges decide the pros\, the public takes the reins in the People’s Choice Competition. For $15\, attendees can sample 12 ounces of pulled pork from various competitors and vote for their favorite. Beyond the grill\, the day features a full lineup of live music throughout the afternoon\, alongside a dozen food trucks\, 100+ craft vendors\, and a family fun zone featuring bounce houses and barnyard animals. \n\n\n\n\n\nAs the Rotary Club’s primary fundraiser\, all proceeds support Rutherford County non-profits. Join us for a day of world-class BBQ and community impact. \n\n\n\n\n\n\n\n\n\nFor more information\, visit BoroBBQFest.com or follow us on Facebook at facebook.com/borobbqfestival or borobbqfest.com.
URL:https://murfreesboro.com/event/boro-bbq-festival/
LOCATION:Hop Springs\, 6790 John Bragg Hwy\, Murfreesboro\, TN\, 37127
ATTACH;FMTTYPE=image/png:https://murfreesboro.com/wp-content/uploads/2026/01/Produced-By.png
END:VEVENT
END:VCALENDAR