BEGIN:VCALENDAR
VERSION:2.0
PRODID:-//Murfreesboro.com - ECPv6.15.20//NONSGML v1.0//EN
CALSCALE:GREGORIAN
METHOD:PUBLISH
X-WR-CALNAME:Murfreesboro.com
X-ORIGINAL-URL:https://murfreesboro.com
X-WR-CALDESC:Events for Murfreesboro.com
REFRESH-INTERVAL;VALUE=DURATION:PT1H
X-Robots-Tag:noindex
X-PUBLISHED-TTL:PT1H
BEGIN:VTIMEZONE
TZID:America/Chicago
BEGIN:DAYLIGHT
TZOFFSETFROM:-0600
TZOFFSETTO:-0500
TZNAME:CDT
DTSTART:20250309T080000
END:DAYLIGHT
BEGIN:STANDARD
TZOFFSETFROM:-0500
TZOFFSETTO:-0600
TZNAME:CST
DTSTART:20251102T070000
END:STANDARD
BEGIN:DAYLIGHT
TZOFFSETFROM:-0600
TZOFFSETTO:-0500
TZNAME:CDT
DTSTART:20260308T080000
END:DAYLIGHT
BEGIN:STANDARD
TZOFFSETFROM:-0500
TZOFFSETTO:-0600
TZNAME:CST
DTSTART:20261101T070000
END:STANDARD
BEGIN:DAYLIGHT
TZOFFSETFROM:-0600
TZOFFSETTO:-0500
TZNAME:CDT
DTSTART:20270314T080000
END:DAYLIGHT
BEGIN:STANDARD
TZOFFSETFROM:-0500
TZOFFSETTO:-0600
TZNAME:CST
DTSTART:20271107T070000
END:STANDARD
END:VTIMEZONE
BEGIN:VEVENT
DTSTART;TZID=America/Chicago:20260509T080000
DTEND;TZID=America/Chicago:20260509T150000
DTSTAMP:20260422T012027
CREATED:20260420T135236Z
LAST-MODIFIED:20260420T135238Z
UID:10041149-1778313600-1778338800@murfreesboro.com
SUMMARY:Car Show for our Veterans
DESCRIPTION:This is a one day car show at the Veterans hospital here in M’boro to raise funds for our Veterans.  We’ll have food trucks\, music\, silent auctions\, give aways\, and of course some of the coolest cars in Middle TN.
URL:https://murfreesboro.com/event/car-show-for-our-veterans/
LOCATION:Alvin C York VA Hospital\, 3400 Lebanon Rd\, Murfreesboro\, TN.
ATTACH;FMTTYPE=image/jpeg:https://murfreesboro.com/wp-content/uploads/2026/04/IMG_0844.jpeg
END:VEVENT
END:VCALENDAR