BEGIN:VCALENDAR
VERSION:2.0
PRODID:-//Murfreesboro.com - ECPv6.15.20//NONSGML v1.0//EN
CALSCALE:GREGORIAN
METHOD:PUBLISH
X-WR-CALNAME:Murfreesboro.com
X-ORIGINAL-URL:https://murfreesboro.com
X-WR-CALDESC:Events for Murfreesboro.com
REFRESH-INTERVAL;VALUE=DURATION:PT1H
X-Robots-Tag:noindex
X-PUBLISHED-TTL:PT1H
BEGIN:VTIMEZONE
TZID:America/Chicago
BEGIN:DAYLIGHT
TZOFFSETFROM:-0600
TZOFFSETTO:-0500
TZNAME:CDT
DTSTART:20240310T080000
END:DAYLIGHT
BEGIN:STANDARD
TZOFFSETFROM:-0500
TZOFFSETTO:-0600
TZNAME:CST
DTSTART:20241103T070000
END:STANDARD
BEGIN:DAYLIGHT
TZOFFSETFROM:-0600
TZOFFSETTO:-0500
TZNAME:CDT
DTSTART:20250309T080000
END:DAYLIGHT
BEGIN:STANDARD
TZOFFSETFROM:-0500
TZOFFSETTO:-0600
TZNAME:CST
DTSTART:20251102T070000
END:STANDARD
BEGIN:DAYLIGHT
TZOFFSETFROM:-0600
TZOFFSETTO:-0500
TZNAME:CDT
DTSTART:20260308T080000
END:DAYLIGHT
BEGIN:STANDARD
TZOFFSETFROM:-0500
TZOFFSETTO:-0600
TZNAME:CST
DTSTART:20261101T070000
END:STANDARD
END:VTIMEZONE
BEGIN:VEVENT
DTSTART;TZID=America/Chicago:20250906T080000
DTEND;TZID=America/Chicago:20250906T120000
DTSTAMP:20260422T070033
CREATED:20250716T123028Z
LAST-MODIFIED:20250716T123052Z
UID:10041097-1757145600-1757160000@murfreesboro.com
SUMMARY:Heart + Soles for Mom 5K
DESCRIPTION:Lace up those sneakers and join us for a walk or run that makes a real impact. One mile\, one mom\, one community at a time! \n\n\n\n🗓️ September 6th | 8AM–12PM \n\n\n\n📍 Gateway Island\, 1875 W College St\, Murfreesboro\, TN \n\n\n\n🎟️ Benefiting Moms Loving Moms \n\n\n\nWhether you’re running\, walking\, or cheering from the sidelines\, your presence supports moms in our community. \n\n\n\nSign up now by scanning the QR code or visiting the registration link 👉 https://www.zeffy.com/en-US/ticketing/heart-and-sole-5k-support-moms-one-stride-at-a-time
URL:https://murfreesboro.com/event/heart-soles-for-mom-5k/
END:VEVENT
BEGIN:VEVENT
DTSTART;TZID=America/Chicago:20250829T073000
DTEND;TZID=America/Chicago:20250829T090000
DTSTAMP:20260422T070033
CREATED:20250828T001254Z
LAST-MODIFIED:20250828T001254Z
UID:10041099-1756452600-1756458000@murfreesboro.com
SUMMARY:MTSU Leadership Lab: Building Your Brand\, Online and Off
DESCRIPTION:Your personal brand speaks before you do. Whether you’re making a first impression in person or showing up in a Google search\, every detail matters. \nJoin Middle Tennessee State University’s Jones College of Business for a free morning workshop designed to help professionals\, job seekers\, entrepreneurs\, and community leaders strengthen their brand—both online and offline. \nLed by Dr. Lucy Matthews\, this fast-paced session will offer practical tools for aligning your digital presence with how you show up in the real world. Walk away with strategies you can use immediately\, plus a chance to network with other local professionals in our newly renovated Executive Education Center.
URL:https://murfreesboro.com/event/mtsu-leadership-lab-building-your-brand-online-and-off/
LOCATION:503 E Bell St\, 503 E Bell Street\, Murfreesboro\, TN\, 37130\, United States
ATTACH;FMTTYPE=image/jpeg:https://murfreesboro.com/wp-content/uploads/2025/08/Leadership-Labs-2025-Schedule-1.jpg
END:VEVENT
BEGIN:VEVENT
DTSTART;TZID=America/Chicago:20250823T180000
DTEND;TZID=America/Chicago:20250823T230000
DTSTAMP:20260422T070033
CREATED:20250828T001300Z
LAST-MODIFIED:20250828T001300Z
UID:10041101-1755972000-1755990000@murfreesboro.com
SUMMARY:Howdy Y'all Hillbilly Bash!
DESCRIPTION:Grab your jorts\, fluff up that mullet\, and get ready for the Howdy Y’all Hillbilly Bash!\nSaturday\, August 23rd | Deep South Growlers | 1602 W. Northfield Blvd #8 | Murfreesboro\, TN\n$1 off Pints for anyone dressed to impress in their hillbilly best! We’re talking NASCAR tees\, cutoff denim\, gingham\, ruffles\, overalls\, and party attitudes. No judgement\, just great beer and great times!
URL:https://murfreesboro.com/event/howdy-yall-hillbilly-bash-2/
LOCATION:Deep South Growlers\, 1602 W Northfield Blvd\, Ste 08\, Murfreesboro\, TN\, 37129\, United States
ATTACH;FMTTYPE=image/png:https://murfreesboro.com/wp-content/uploads/2025/08/2025_BoroHillbillyBash_halfsizeforemails-1.png
GEO:35.8717386;-86.4137577
X-APPLE-STRUCTURED-LOCATION;VALUE=URI;X-ADDRESS=Deep South Growlers 1602 W Northfield Blvd Ste 08 Murfreesboro TN 37129 United States;X-APPLE-RADIUS=500;X-TITLE=1602 W Northfield Blvd\, Ste 08:geo:-86.4137577,35.8717386
END:VEVENT
BEGIN:VEVENT
DTSTART;TZID=America/Chicago:20250823T180000
DTEND;TZID=America/Chicago:20250823T230000
DTSTAMP:20260422T070033
CREATED:20250828T001258Z
LAST-MODIFIED:20250828T001258Z
UID:10041100-1755972000-1755990000@murfreesboro.com
SUMMARY:Howdy Y'all Hillbilly Bash!
DESCRIPTION:Grab your jorts\, fluff up that mullet\, and get ready for some Deep South fun at the Howdy Y’all Hillbilly Bash! We’re boiling peanuts\, y’all!\nSaturday\, August 23rd | Deep South Growlers | 1602 W. Northfield Blvd #8 | Murfreesboro\, TN\n$1 off Pints for anyone dressed to impress in their hillbilly best!\nWe’re talking NASCAR tees\, cutoff denim\, gingham\, ruffles\, boots\, and party attitudes. No judgement\, just great beer and great times!
URL:https://murfreesboro.com/event/howdy-yall-hillbilly-bash/
LOCATION:Deep South Growlers\, 1602 W Northfield Blvd\, Ste 08\, Murfreesboro\, TN\, 37129\, United States
ATTACH;FMTTYPE=image/png:https://murfreesboro.com/wp-content/uploads/2025/08/2025_BoroHillbillyBash_halfsizeforemails.png
GEO:35.8717386;-86.4137577
X-APPLE-STRUCTURED-LOCATION;VALUE=URI;X-ADDRESS=Deep South Growlers 1602 W Northfield Blvd Ste 08 Murfreesboro TN 37129 United States;X-APPLE-RADIUS=500;X-TITLE=1602 W Northfield Blvd\, Ste 08:geo:-86.4137577,35.8717386
END:VEVENT
BEGIN:VEVENT
DTSTART;TZID=America/Chicago:20250816T090000
DTEND;TZID=America/Chicago:20250816T130000
DTSTAMP:20260422T070033
CREATED:20250718T024829Z
LAST-MODIFIED:20250718T024843Z
UID:10041098-1755334800-1755349200@murfreesboro.com
SUMMARY:Murfreesboro Recycling Roundup
DESCRIPTION:Tennessee Environmental Council invites you and your community to join us at our FREE Recycling Roundup event in Murfreesboro\, TN\, at the MTSU Parking Lot on Saturday\, August 16th\, from 9 am to 1 pm!  \nEveryone is encouraged to bring their electronics\, paper for secured on-site shredding\, tires\, blocks of Styrofoam\, mattresses\, glass bottles\, medications\, medical equipment\, clean & donatable pet supplies (no items with hair/dirt)\, eyeglasses\, and more \nVisit our website for a detailed list of materials that will be accepted at the event\, as well as any items that won’t be collected.  tectn.org/murfreesbororecycles  \nYou can also volunteer and add this as your social services hours: https://www.flipcause.com/secure/cause_pdetails/MTc2NTA0  \nFeel free to send us a message to recycle@tectn.org if you have more questions! 
URL:https://murfreesboro.com/event/murfreesboro-recycling-roundup/
ATTACH;FMTTYPE=image/png:https://murfreesboro.com/wp-content/uploads/2025/07/Murfreesboro-2025-09-13.png
END:VEVENT
BEGIN:VEVENT
DTSTART;TZID=America/Chicago:20250712T090000
DTEND;TZID=America/Chicago:20250712T113000
DTSTAMP:20260422T070033
CREATED:20250709T192053Z
LAST-MODIFIED:20250709T192112Z
UID:10041094-1752310800-1752319800@murfreesboro.com
SUMMARY:New Fitness Studio Pvolve Celebrates Opening July 12 at The Avenue
DESCRIPTION:The latest in studio fitness has arrived in Murfreesboro! Loved by celebrity Jennifer Aniston\, every Pvolve  workout combines strength\, mobility and stability in three specialized class types using 12 pieces of unique equipment. To celebrate\, The Avenue location will host special edition classes\, giveaways and pop-ups from 9am to 11:30am on July 12.
URL:https://murfreesboro.com/event/new-fitness-studio-pvolve-celebrates-opening-july-12-at-the-avenue/
LOCATION:2615 Medical Center Parkway\, Unit 1530\, The Avenue 2615 Medical Center Parkway\, Unit 1530\, Murfreesboro\, 37129
ATTACH;FMTTYPE=image/jpeg:https://murfreesboro.com/wp-content/uploads/2025/07/Murfreesboro-Pvolve-Fitness-Studio.jpg
ORGANIZER;CN="Pvolve Murfreesboro":MAILTO:murfreesboro@pvolvestudios.com
END:VEVENT
BEGIN:VEVENT
DTSTART;TZID=America/Chicago:20250711T183000
DTEND;TZID=America/Chicago:20250711T213000
DTSTAMP:20260422T070033
CREATED:20250707T162512Z
LAST-MODIFIED:20250707T162753Z
UID:10041093-1752258600-1752269400@murfreesboro.com
SUMMARY:Friday Night Live Concert featuring Sister's Wade Revival and The HipWaders
DESCRIPTION:Sisters Wade Revival and The HipWaders bring an all-acoustic fusion of country\, bluegrass\, and original songwriting straight from the heart of Nashville. This powerhouse sister duo\, Deb on mandolin and Julie on guitar\, first made waves when they signed to Charlie Daniels’ Blue Hat Records and opened for the legend himself. Their tight harmonies and emotionally rich performances quickly earned them national recognition. \n\n\n\nThey’ve graced iconic stages including the Grand Ole Opry\, Ryman Auditorium\, The Bluebird Cafe\, Exit/In\, Tootsies Orchid Lounge\, Station Inn\, and the House of Blues Chicago. Their critically acclaimed debut album garnered attention from Billboard Magazine and set the tone for their reputation as authentic\, roots-driven artists with staying power. \n\n\n\nNow joined by their dynamic band\, The HipWaders\, Sisters Wade Revival deliver a high-energy\, soul-stirring live show that blends tradition with originality\, an experience you don’t want to miss. \n\n\n\nWhat to expect at a Friday Night Live Concert?\n\n\n\n1) Free entertainment in the Murfreesboro historic downtown public square. \n\n\n\n2) Closed streets around the historic Rutherford County courthouse. Bring your chairs to set up with friends on the Church Street side of the public square. \n\n\n\n3) Free parking – park at one of the two downtown parking garages and walk over (one block) to the public square. \n\n\n\n4) Food trucks will be set up around the courthouse\, but there are several downtown restaurants ready to serve you! Come early and eat dinner then put your dancing shoes on! \n\n\n\n5) The concert starts at 6:30 PM in front of the Rutherford County Courthouse and lasts until 9:30 PM. \n\n\n\n6) Porta-Potties located in the old Bank of America parking lot across from the Rutherford County Courthouse on the East side.
URL:https://murfreesboro.com/event/friday-night-live-concert-featuring-sisters-wade-revival-and-the-hipwaders/
ATTACH;FMTTYPE=image/jpeg:https://murfreesboro.com/wp-content/uploads/2025/07/Friday-Night-Live-Concert-featuring-Sisters-Wade-Revival-and-The-HipWaders.jpeg
END:VEVENT
BEGIN:VEVENT
DTSTART;TZID=America/Chicago:20250707T080000
DTEND;TZID=America/Chicago:20250707T170000
DTSTAMP:20260422T070033
CREATED:20250707T155420Z
LAST-MODIFIED:20250707T155436Z
UID:10041092-1751875200-1751907600@murfreesboro.com
SUMMARY:4th Annual Showin’ Off For Shelby
DESCRIPTION:Get ready\, Middle Tennessee! It’s almost time for the 4th Annual Showin’ Off For Shelby! \n\n\n\n📅 Date: Saturday\, July 19\, 2025🕙 Time: 10:00 AM – 4:00 PM📍 Location: Fiddler’s Grove\, 945 E Baddour Pkwy\, Lebanon\, TN 37087(Rain date: July 20) \n\n\n\nAll cars\, trucks\, jeeps\, and bikes welcome! 🏆 \n\n\n\n🏅 Awards for 1st\, 2nd\, and 3rd in each class\, plus Best in Show\, Specialty picks\, and a Top 30!🎶 Live DJ🍔 Food Trucks👕 Event Shirts🎁 Prizes… and a whole lot of cool rides! \n\n\n\n💲 Registration is just $20 – on-site only!All proceeds benefit Fightin’ Against Addiction. \n\n\n\nFollow the Facebook event page for updates and come out to support a great cause while showing off your ride 👉 https://www.facebook.com/profile.php?id=100089250046931
URL:https://murfreesboro.com/event/4th-annual-showin-off-for-shelby/
END:VEVENT
BEGIN:VEVENT
DTSTART;TZID=America/Chicago:20250624T150000
DTEND;TZID=America/Chicago:20250624T170000
DTSTAMP:20260422T070033
CREATED:20250617T030806Z
LAST-MODIFIED:20250617T060715Z
UID:10041086-1750777200-1750784400@murfreesboro.com
SUMMARY:MTC and Amazon present: (AI) Automate your life\, your home\, your work and business: EVERYTHING!
DESCRIPTION:Now a Ted Talker/Speaker \, Shauna Sprague was the top education event last year and she is back with more tips on how to use tools to automate your work or home with AI and other tools! Social Engage event details soon to follow! \nLET’S GET EDUCATED in June\n==========\nWhen: Tuesday\, June 24th 3p-5pm \nWhere: Fountains @ Gateway Plaza Room – fourth floor.  A sunset Social will be on the deck overlooking the greenway to connect with your peers. \nMTC is excited about our biggest education event of the year. Shauna Sprague is a notable figure in the IT world with over 20 years of experience\, specializing in IT leadership\, strategic planning\, and technology management. Shauna will discuss the act of thinking and automating everything in your business and personal life. What would you do if you could get half your day back? Join us to find out!
URL:https://murfreesboro.com/event/mtc-and-amazon-present-ai-automate-your-life-your-home-your-work-and-business-everything/
LOCATION:The View at the Fountains\, 1500 Medical Center Parkway\, Murfreesboro\, TN\, 37129\, United States
ATTACH;FMTTYPE=image/jpeg:https://murfreesboro.com/wp-content/uploads/2025/06/ProfilePic2-2025-1.jpg
ORGANIZER;CN="Murfreesboro Technology Council":MAILTO:karen@staysafeonline.org
END:VEVENT
END:VCALENDAR